BEGIN:VCALENDAR
VERSION:2.0
PRODID:icalendar-ruby
CALSCALE:GREGORIAN
METHOD:PUBLISH
BEGIN:VEVENT
DTSTAMP:20260423T013452Z
UID:800-1268520@stjohnsduncan.ca
DTSTART:20260505T180000Z
DTEND:20260505T190000Z
CLASS:PUBLIC
CREATED:20260422T102612
DESCRIPTION:Flowering Tree\n \nI am the way\, the truth\, and the life\, \
 nsays the Lord\; \nno one comes to the Father\, \nbut by me. \nJohn 14.6\n
 O Come. Let Us Worship.\nScriptures:\nActs 1. 19-26\nPsalm 87\nJohn 10. 22
 -30\n \n \nImage:\nFlowering Tree\nDuncan BC\nkm
LAST-MODIFIED:20260422T102612
LOCATION:
SUMMARY:Tuesday Holy Communion
URL;VALUE=URI:https://www.stjohnsduncan.ca/events/tuesday-holy-communion--8
 00/2026-05-05
ATTACH;FILENAME=St Johns Flowering Tree.jpg;FMTTYPE=image/jpeg:https://dq5p
 wpg1q8ru0.cloudfront.net/2026/04/22/17/25/42/a3ca3489-95e3-46cf-ab46-c7c61
 847f279/St%20Johns%20Flowering%20Tree.jpg
END:VEVENT
END:VCALENDAR
