BEGIN:VCALENDAR
VERSION:2.0
PRODID:icalendar-ruby
CALSCALE:GREGORIAN
METHOD:PUBLISH
BEGIN:VEVENT
DTSTAMP:20260423T002225Z
UID:799-1268516@stjohnsduncan.ca
DTSTART:20260428T170000Z
DTEND:20260428T180000Z
CLASS:PUBLIC
CREATED:20260422T101629
DESCRIPTION:Tulips \n St. John's Duncan BC\nI am the good shepherd\, \nsay
 s the Lord: \nI know my own and \nmy own know me.\nJohn 10. 14\n \nCome. 
 Let Us Worship.\nScriptures:\nActs 11. 19-26\nPsalm 87\nJohn 10. 22-30\n\n
  \nImage:\nTulips \nSt. John's Duncan BC\nkm
LAST-MODIFIED:20260422T101629
LOCATION:
SUMMARY:Tuesday Holy Communion
URL;VALUE=URI:https://www.stjohnsduncan.ca/events/tuesday-holy-communion--7
 99/2026-04-28
ATTACH;FILENAME=St Johns Tulips.jpg;FMTTYPE=image/jpeg:https://dq5pwpg1q8ru
 0.cloudfront.net/2026/04/22/17/13/24/1882d196-b509-4a91-b506-b1b639fb68aa/
 St%20Johns%20Tulips.jpg
END:VEVENT
END:VCALENDAR
