BEGIN:VCALENDAR
VERSION:2.0
PRODID:icalendar-ruby
CALSCALE:GREGORIAN
METHOD:PUBLISH
BEGIN:VEVENT
DTSTAMP:20260423T002740Z
UID:798-1268505@stjohnsduncan.ca
DTSTART:20260503T160000Z
DTEND:20260503T170000Z
CLASS:PUBLIC
CREATED:20260422T093549
DESCRIPTION:Stephen and the Dispute before Sanhedrin\n \nI am the way\, th
 e truth\, and the life\, \nsays the Lord\; \nno one comes to the Father\, 
 \nbut by me.\nJohn 14. 6\n \nO Come. Let Us Worship.\n\nScriptures:\nActs
  7. 55-60\nPsalm 31. 1-5\, 15-16 \n1 Peter 2. 2-10 \nJohn 14. 1-14\n\n 
 \n \n\n\nDigital Worship @ Christ Church Cathedral Victoria\n10:50 a.m.
  HERE.\n\n\n \n \n\n\n\n\n\n\n\n\nStephen and the Dispute before Sanhed
 rin\nAngelico\, fra\, approximately 1400-1455\nfr: Art in the Christian T
 radition\,\na project of the Vanderbilt Divinity Library\, Nashville\, TN\
 n\n\n\n\n\n\n\n\n
LAST-MODIFIED:20260422T093549
LOCATION:
SUMMARY:Sunday Eucharist & Digital Worship Links
URL;VALUE=URI:https://www.stjohnsduncan.ca/events/sunday-eucharist-digital-
 worship-links--798/2026-05-03
ATTACH;FILENAME=5th Sunday of Easter 2026 Angelico B.jpg;FMTTYPE=image/jpeg
 :https://dq5pwpg1q8ru0.cloudfront.net/2026/04/22/16/25/11/5e5223d9-39e0-4e
 85-8dc5-815eafbf2eec/5th%20Sunday%20of%20Easter%202026%20Angelico%20B.jpg
END:VEVENT
END:VCALENDAR
